BEGIN:VCALENDAR
VERSION:2.0
PRODID:-//EUPEX //NONSGML Events //EN
CALSCALE:GREGORIAN
X-WR-CALNAME:EUPEX
BEGIN:VEVENT
CREATED:20220830T134149Z
UID:2309
DTEND;VALUE=DATE:20220926T010000
DTSTART;VALUE=DATE:20220926T000000
DTSTAMP:20260424T011833Z
LOCATION:Assisi\, Italy
DESCRIPTION:13th International Conference on Relativistic Effects in Heavy-Element Chemistry and Physics
SUMMARY:REHE – 2020/2022
ORGANIZER:EUPEX
URL;VALUE=URI:https://eupex.eu/events/rehe-2020-2022/
TRANSP:OPAQUE
BEGIN:VALARM
ACTION:DISPLAY
TRIGGER;VALUE=DATE-TIME:20220926T000000Z
DESCRIPTION:Reminder for REHE – 2020/2022
END:VALARM
END:VEVENT
END:VCALENDAR
