BEGIN:VCALENDAR
VERSION:2.0
PRODID:-//EUPEX //NONSGML Events //EN
CALSCALE:GREGORIAN
X-WR-CALNAME:EUPEX
BEGIN:VEVENT
CREATED:20240629T081249Z
UID:3054
DTEND;VALUE=DATE:20241117T010000
DTSTART;VALUE=DATE:20241117T000000
DTSTAMP:20260424T161516Z
LOCATION:Atlanta\, GA\, USA
DESCRIPTION:We'll be sharing a booth again with EPI and EUPILOT.
SUMMARY:SC24
ORGANIZER:EUPEX
URL;VALUE=URI:https://eupex.eu/events/sc24/
TRANSP:OPAQUE
BEGIN:VALARM
ACTION:DISPLAY
TRIGGER;VALUE=DATE-TIME:20241117T000000Z
DESCRIPTION:Reminder for SC24
END:VALARM
END:VEVENT
END:VCALENDAR
