BEGIN:VCALENDAR
VERSION:2.0
PRODID:-//EUPEX //NONSGML Events //EN
CALSCALE:GREGORIAN
X-WR-CALNAME:EUPEX
BEGIN:VEVENT
CREATED:20241209T170517Z
UID:3270
DTEND;VALUE=DATE:20250128T010000
DTSTART;VALUE=DATE:20250128T000000
DTSTAMP:20260424T031843Z
LOCATION:Zoom
DESCRIPTION:The EUPEX researchers share their results and lessons learnt!
SUMMARY:EUPEX webinar – OpenGADGET
ORGANIZER:EUPEX
URL;VALUE=URI:https://eupex.eu/events/eupex-webinar-opengadget/
TRANSP:OPAQUE
BEGIN:VALARM
ACTION:DISPLAY
TRIGGER;VALUE=DATE-TIME:20250128T000000Z
DESCRIPTION:Reminder for EUPEX webinar &#8211\; OpenGADGET
END:VALARM
END:VEVENT
END:VCALENDAR
